BEGIN:VCALENDAR
PRODID:-//kirchenweb.ch gmbh//veranstaltungsausgabe v2.0//DE
VERSION:2.0
METHOD:PUBLISH
BEGIN:VEVENT
DTSTART:20241210T180000Z
DTEND:20241210T190000Z
LOCATION:Kirche Buchberg-Rüdlingen\, \,
TRANSP:OPAQUE
SEQUENCE:0
UID:163827-veranstaltung@ref-sh.ch
DTSTAMP:20241113T081350Z
DESCRIPTION:Leitung: Simone Hofstetter\n\nEin adventlicher Abend mit
  Liedern zum Zuhören und Mitsingen\, einer Adventsgeschichte und
  anschliessender Stubete.\n\nKontakt: barbara.erdmann@ref-sh.ch\n\nWeitere
  Infos: https://www.ref-sh.ch/veranstaltung/163827
SUMMARY:Offenes Adventssingen mit dem Gemischten Chor Rheinklang
PRIORITY:5
X-MICROSOFT-CDO-IMPORTANCE:1
CLASS:PUBLIC
END:VEVENT
END:VCALENDAR
