BEGIN:VCALENDAR
PRODID:-//kirchenweb.ch gmbh//veranstaltungsausgabe v2.0//DE
VERSION:2.0
METHOD:PUBLISH
BEGIN:VEVENT
DTSTART:20240323T130000Z
DTEND:20240323T150000Z
LOCATION:HofAckerZentrum\, \,
TRANSP:OPAQUE
SEQUENCE:0
UID:163674-veranstaltung@ref-sh.ch
DTSTAMP:20240318T064201Z
DESCRIPTION:Aquarelle - Farbe trifft auf Inspiration - Kreativität -
  Fantasie\n\nAusstellung von der Malkursgruppe  unter der Leitung von
  Theres Hintsch\n\nÖffnungszeiten:\nFreitag\, 22. März 2024\, 18.00 Uhr
  Vernissage\nSamstag\, 23. März 2024\, 14.00 bis 16.00 Uhr\nSonntag\, 24.
  März 2024\, 14.00 bis 16.00 Uhr\nDonnerstag\, 28. März 2024\, 14.00 bis
  16.00 Uhr\nFreitag\, 29. März 2024\, 17.00 bis 19.00 Uhr\nSamstag\, 30.
  März 2024\, 14.00 bis 16.00 Uhr\nSonntag\, 31. März 2024\, 14.00 bis
  16.00 Uhr\nDonnerstag\, 4. April 2024\, 14.00 bis 16.00 Uhr\nFreitag\, 5.
  April 2024\, 17.00 bis 19.00 Uhr\nSamstag\, 6. April 2024\, 14.00 bis
  16.00 Uhr\nSonntag\, 7. April 2024\, 14.00 bis 16.00 Uhr\nDonnerstag\,
  11. April 2024\, 14.00 bis 16.00 Uhr\nFreitag\, 12. April 2024\, 17.00
  bis 19.00 Uhr\nSamstag\, 13. April 2024\, 14.00 bis 16.00 Uhr Finissage\n
 \n\nKontakt: Theres Hintsch\n\nWeitere Infos:
  https://www.ref-sh.ch/veranstaltung/163674
SUMMARY:Ausstellung Buchthaler Malkurs
PRIORITY:5
X-MICROSOFT-CDO-IMPORTANCE:1
CLASS:PUBLIC
END:VEVENT
END:VCALENDAR
