BEGIN:VCALENDAR
PRODID:-//kirchenweb.ch gmbh//veranstaltungsausgabe v2.0//DE
VERSION:2.0
METHOD:PUBLISH
BEGIN:VEVENT
DTSTART:20240609T150000Z
DTEND:20240609T160000Z
LOCATION:Kirche Buchthalen\, \,
TRANSP:OPAQUE
SEQUENCE:0
UID:163590-veranstaltung@ref-sh.ch
DTSTAMP:20250820T120749Z
DESCRIPTION:Abschluss mit Lesungen und Musik\n\nKontakt: Beatrice Kunz
  Pfeiffer\n\nWeitere Infos: https://www.ref-sh.ch/veranstaltung/163590
SUMMARY:Paradiesgarten
PRIORITY:5
X-MICROSOFT-CDO-IMPORTANCE:1
CLASS:PUBLIC
END:VEVENT
END:VCALENDAR
