BEGIN:VCALENDAR
PRODID:-//kirchenweb.ch gmbh//veranstaltungsausgabe v2.0//DE
VERSION:2.0
METHOD:PUBLISH
BEGIN:VEVENT
DTSTART:20240208T120000Z
DTEND:20240208T170000Z
LOCATION:Ochseschüür\, \,
TRANSP:OPAQUE
SEQUENCE:0
UID:163580-veranstaltung@ref-sh.ch
DTSTAMP:20240815T073008Z
DESCRIPTION:Kontakt: Katharina Sutter\n\nWeitere Infos:
  https://www.ref-sh.ch/veranstaltung/163580
SUMMARY:Reparatur Austausch Abstellventile Wasser
PRIORITY:5
X-MICROSOFT-CDO-IMPORTANCE:1
CLASS:PUBLIC
END:VEVENT
END:VCALENDAR
