BEGIN:VCALENDAR
PRODID:-//kirchenweb.ch gmbh//veranstaltungsausgabe v2.0//DE
VERSION:2.0
METHOD:PUBLISH
BEGIN:VEVENT
DTSTART:20240227T083000Z
DTEND:20240227T100000Z
LOCATION:Ochseschüür\, \,
TRANSP:OPAQUE
SEQUENCE:0
UID:163513-veranstaltung@ref-sh.ch
DTSTAMP:20240219T143159Z
DESCRIPTION:Kontakt: Hans-Jörg Ganz\n\nWeitere Infos:
  https://www.ref-sh.ch/veranstaltung/163513
SUMMARY:Sitzung La Capella
PRIORITY:5
X-MICROSOFT-CDO-IMPORTANCE:1
CLASS:PUBLIC
END:VEVENT
END:VCALENDAR
