BEGIN:VCALENDAR
PRODID:-//kirchenweb.ch gmbh//veranstaltungsausgabe v2.0//DE
VERSION:2.0
METHOD:PUBLISH
BEGIN:VEVENT
DTSTART:20240217T080000Z
DTEND:20240217T100000Z
LOCATION:Mesmerhuus\, Kloster 14\, 8224 Löhningen
TRANSP:OPAQUE
SEQUENCE:0
UID:163433-veranstaltung@ref-sh.ch
DTSTAMP:20240214T093717Z
DESCRIPTION:Kontakt: Marianne Huber\n\nWeitere Infos:
  https://www.ref-sh.ch/veranstaltung/163433
SUMMARY:Begleitgespräch
PRIORITY:5
X-MICROSOFT-CDO-IMPORTANCE:1
CLASS:PUBLIC
END:VEVENT
END:VCALENDAR
