BEGIN:VCALENDAR
PRODID:-//kirchenweb.ch gmbh//veranstaltungsausgabe v2.0//DE
VERSION:2.0
METHOD:PUBLISH
BEGIN:VEVENT
DTSTART:20240303T091500Z
DTEND:20240303T101500Z
LOCATION:Mesmerhuus\, Kloster 14\, 8224 Löhningen
TRANSP:OPAQUE
SEQUENCE:0
UID:163407-veranstaltung@ref-sh.ch
DTSTAMP:20240213T163004Z
DESCRIPTION:Nach dem Kurz-Gottesdienst in der Kirche (ca. 20 Minuten)
  diskutieren die Interessierten darüber\, wie der Gottesdienst der
  Zukunft in der Kirchgemeinde Löhningen-Guntmadingen aussehen soll.\n\nIn
  zwei Runden tragen wir die bisherigen Erfahrungen zusammen\, dann soll es
  darum gehen\, was sich in der Gottesdienst-Gestaltung ändern
  könnte/sollte.\n\nDie Diskussion soll eine Stunde dauern (10.15 bis
  11.15 Uhr).\n\nKontakt: Pfarrer Lukas Huber\n\nWeitere Infos:
  https://www.ref-sh.ch/veranstaltung/163407
SUMMARY:Gottesdienst-Diskussion
PRIORITY:5
X-MICROSOFT-CDO-IMPORTANCE:1
CLASS:PUBLIC
END:VEVENT
END:VCALENDAR
