BEGIN:VCALENDAR
PRODID:-//kirchenweb.ch gmbh//veranstaltungsausgabe v2.0//DE
VERSION:2.0
METHOD:PUBLISH
BEGIN:VEVENT
DTSTART:20240301T164500Z
DTEND:20240301T173000Z
LOCATION:Ref. Kirche Beringen\, Postberg 21\, 8222 Beringen
TRANSP:OPAQUE
SEQUENCE:0
UID:163374-veranstaltung@ref-sh.ch
DTSTAMP:20240213T163003Z
DESCRIPTION:Jugendgottesdienst mit Pfarrer Lukas Huber\, anschliessend
  Check-in Beringen\n\nKontakt: Pfarrer Lukas Huber\n\nWeitere Infos:
  https://www.ref-sh.ch/veranstaltung/163374
SUMMARY:Jugendgottesdienst Beringen
PRIORITY:5
X-MICROSOFT-CDO-IMPORTANCE:1
CLASS:PUBLIC
END:VEVENT
END:VCALENDAR
