BEGIN:VCALENDAR
PRODID:-//kirchenweb.ch gmbh//veranstaltungsausgabe v2.0//DE
VERSION:2.0
METHOD:PUBLISH
BEGIN:VEVENT
DTSTART:20240407T073000Z
DTEND:20240407T084500Z
LOCATION:Spielgruppenraum\, Gemeindehausplatz 4\, 8214 Gächlingen
TRANSP:OPAQUE
SEQUENCE:0
UID:163327-veranstaltung@ref-sh.ch
DTSTAMP:20240312T100925Z
DESCRIPTION:Kontakt: Monika Wieser\n\nWeitere Infos:
  https://www.ref-sh.ch/veranstaltung/163327
SUMMARY:Sonntagschule & Spielzeit
PRIORITY:5
X-MICROSOFT-CDO-IMPORTANCE:1
CLASS:PUBLIC
END:VEVENT
END:VCALENDAR
