BEGIN:VCALENDAR
PRODID:-//kirchenweb.ch gmbh//veranstaltungsausgabe v2.0//DE
VERSION:2.0
METHOD:PUBLISH
BEGIN:VEVENT
DTSTART:20241121T174500Z
DTEND:20241121T183000Z
LOCATION:Münster\, \,
TRANSP:OPAQUE
SEQUENCE:0
UID:163299-veranstaltung@ref-sh.ch
DTSTAMP:20241120T134124Z
DESCRIPTION:Kontakt: Susi Leu\n\nWeitere Infos:
  https://www.ref-sh.ch/veranstaltung/163299
SUMMARY:Abendgebet für den Frieden
PRIORITY:5
X-MICROSOFT-CDO-IMPORTANCE:1
CLASS:PUBLIC
END:VEVENT
END:VCALENDAR
