BEGIN:VCALENDAR
PRODID:-//kirchenweb.ch gmbh//veranstaltungsausgabe v2.0//DE
VERSION:2.0
METHOD:PUBLISH
BEGIN:VEVENT
DTSTART:20240322T170000Z
DTEND:20240322T220000Z
LOCATION:HofAckerZentrum\, \,
TRANSP:OPAQUE
SEQUENCE:0
UID:163288-veranstaltung@ref-sh.ch
DTSTAMP:20240321T094507Z
DESCRIPTION:Aquarelle - Farbe trifft auf Inspiration - Kreativität -
  Fantasie\n\nAusstellung von der Malkursgruppe  unter der Leitung von
  Theres Hintsch\n\nÖffnungszeiten:\nFreitag\, 22. März 2024\, 18.00 Uhr
  Vernissage\nSamstag\, 23. März 2024\, 14.00 bis 16.00 Uhr\nSonntag\, 24.
  März 2024\, 14.00 bis 16.00 Uhr\nDonnerstag\, 28. März 2024\, 14.00 bis
  16.00 Uhr\nFreitag\, 29. März 2024\, 17.00 bis 19.00 Uhr\nSamstag\, 30.
  März 2024\, 14.00 bis 16.00 Uhr\nSonntag\, 31. März 2024\, 14.00 bis
  16.00 Uhr\nDonnerstag\, 4. April 2024\, 14.00 bis 16.00 Uhr\nFreitag\, 5.
  April 2024\, 17.00 bis 19.00 Uhr\nSamstag\, 6. April 2024\, 14.00 bis
  16.00 Uhr\nSonntag\, 7. April 2024\, 14.00 bis 16.00 Uhr\nDonnerstag\,
  11. April 2024\, 14.00 bis 16.00 Uhr\nFreitag\, 12. April 2024\, 17.00
  bis 19.00 Uhr\nSamstag\, 13. April 2024\, 14.00 bis 16.00 Uhr Finissage\n
 \n\nKontakt: Theres Hintsch\, Tel. 052 625 25 39\n\nWeitere Infos:
  https://www.ref-sh.ch/veranstaltung/163288
SUMMARY:Vernissage Buchthaler Malkurs
PRIORITY:5
X-MICROSOFT-CDO-IMPORTANCE:1
CLASS:PUBLIC
END:VEVENT
END:VCALENDAR
