BEGIN:VCALENDAR
PRODID:-//kirchenweb.ch gmbh//veranstaltungsausgabe v2.0//DE
VERSION:2.0
METHOD:PUBLISH
BEGIN:VEVENT
DTSTART:20240301T060000Z
DTEND:20240301T080000Z
LOCATION:Mesmerhuus Löhningen\, Kloster 14\, 8224 Löhningen
TRANSP:OPAQUE
SEQUENCE:0
UID:163232-veranstaltung@ref-sh.ch
DTSTAMP:20240221T154815Z
DESCRIPTION:Frühgebet für den Frieden mit Elementen aus der
  WGT-Liturgie.\n\nBeginn 07:00 im Mesmerhuus in Löhningen. \n\nIm
  Anschluss daran gibt es ein gemeinsames Frühstück.\n\nKontakt: Irene
  Walter\n\nWeitere Infos: https://www.ref-sh.ch/veranstaltung/163232
SUMMARY:Weltgebetstag
PRIORITY:5
X-MICROSOFT-CDO-IMPORTANCE:1
CLASS:PUBLIC
END:VEVENT
END:VCALENDAR
