BEGIN:VCALENDAR
PRODID:-//kirchenweb.ch gmbh//veranstaltungsausgabe v2.0//DE
VERSION:2.0
METHOD:PUBLISH
BEGIN:VEVENT
DTSTART:20240509T080000Z
DTEND:20240509T090000Z
LOCATION:Kantonsspital\, im Vortragssaal\, Geissbergstrasse 81\, 8208
  Schaffhausen
TRANSP:OPAQUE
SEQUENCE:0
UID:162986-veranstaltung@ref-sh.ch
DTSTAMP:20240504T084608Z
DESCRIPTION:mit Spitalseelsorger Ingo Bäcker\, Pfarrer Peter Vogelsanger
  und der Stadtmusik Schaffhausen. Der Gottesdienst ist ökunenisch\, alle
  sind willkommen.\n\n\n\nKontakt: Pfarrer Ingo Bäcker und Pfarrer Peter
  Vogelsanger\n\nWeitere Infos: https://www.ref-sh.ch/veranstaltung/162986
SUMMARY:Gottesdienst an Auffahrt
PRIORITY:5
X-MICROSOFT-CDO-IMPORTANCE:1
CLASS:PUBLIC
END:VEVENT
END:VCALENDAR
