BEGIN:VCALENDAR
PRODID:-//kirchenweb.ch gmbh//veranstaltungsausgabe v2.0//DE
VERSION:2.0
METHOD:PUBLISH
BEGIN:VEVENT
DTSTART:20241020T160000Z
DTEND:20241020T190000Z
LOCATION:Mesmerhuus\, Kloster 14\, 8224 Löhningen
TRANSP:OPAQUE
SEQUENCE:0
UID:162813-veranstaltung@ref-sh.ch
DTSTAMP:20241020T153002Z
DESCRIPTION:Weitere Infos zum Boxenstopp findest du unter boxenstopp.\n
 \nProgramm\n18:00 – Apéro\n18:15 – Znacht\n19:30 – Gottesdienst
 \n21:00 – Snacks und open end\n\nKontakt: Esther Ebi\, Römerstrasse
  34\, 8214 Gächlingen\, esther.ebi@ref-sh.ch\, 079 542 28 23\n\nWeitere
  Infos: https://www.ref-sh.ch/veranstaltung/162813
SUMMARY:Boxenstopp Abendessen und Gottesdienst
PRIORITY:5
X-MICROSOFT-CDO-IMPORTANCE:1
CLASS:PUBLIC
END:VEVENT
END:VCALENDAR
