BEGIN:VCALENDAR
PRODID:-//kirchenweb.ch gmbh//veranstaltungsausgabe v2.0//DE
VERSION:2.0
METHOD:PUBLISH
BEGIN:VEVENT
DTSTART:20241006T160000Z
DTEND:20241006T190000Z
LOCATION:Kirchgemeindehaus Beringen\, Steig 2\, 8222 Beringen
TRANSP:OPAQUE
SEQUENCE:0
UID:162812-veranstaltung@ref-sh.ch
DTSTAMP:20241013T090810Z
DESCRIPTION:Weitere Infos zum Boxenstopp findest du unter boxenstopp.\n
 \nProgramm\n18:00 – Apéro\n18:15 – Znacht\n19:30 – Gottesdienst
 \n21:00 – Snacks und open end\n\nKontakt: Levin Bradler\,
  levin.bradler@ref-sh.ch\n\nWeitere Infos:
  https://www.ref-sh.ch/veranstaltung/162812
SUMMARY:Boxenstopp
PRIORITY:5
X-MICROSOFT-CDO-IMPORTANCE:1
CLASS:PUBLIC
END:VEVENT
END:VCALENDAR
