BEGIN:VCALENDAR
PRODID:-//kirchenweb.ch gmbh//veranstaltungsausgabe v2.0//DE
VERSION:2.0
METHOD:PUBLISH
BEGIN:VEVENT
DTSTART:20240922T160000Z
DTEND:20240922T190000Z
LOCATION:Gächlingen Pfarrhausgarten oder bei Schlechtwetter in der
  Kirche\, Im Chloster 1\, 8214 Gächlingen
TRANSP:OPAQUE
SEQUENCE:0
UID:162811-veranstaltung@ref-sh.ch
DTSTAMP:20240911T153004Z
DESCRIPTION:Weitere Infos zum Boxenstopp findest du unter boxenstopp.\n
 \nProgramm\n18:00 – Apéro\n18:15 – Znacht\n19:30 – Gottesdienst
 \n21:00 – Snacks und open end\n\nKontakt: Zoé Werner\, Im Chloster 1\,
  8214 Gächlingen\, zoe.werner@ref-sh.ch\, 076 801 39 39\n\nWeitere Infos:
  https://www.ref-sh.ch/veranstaltung/162811
SUMMARY:Boxenstopp
PRIORITY:5
X-MICROSOFT-CDO-IMPORTANCE:1
CLASS:PUBLIC
END:VEVENT
END:VCALENDAR
