BEGIN:VCALENDAR
PRODID:-//kirchenweb.ch gmbh//veranstaltungsausgabe v2.0//DE
VERSION:2.0
METHOD:PUBLISH
BEGIN:VEVENT
DTSTART:20240825T160000Z
DTEND:20240825T190000Z
LOCATION:Kirchgemeindehaus Beringen\, Steig 2\, 8222 Beringen
TRANSP:OPAQUE
SEQUENCE:0
UID:162809-veranstaltung@ref-sh.ch
DTSTAMP:20240818T152710Z
DESCRIPTION:Hoii ihr alli\, \nübernächsten Sonntag (25. August) ist
  wieder Boxenstopp🙌\, \nund wir werden uns im Kirchgemeindehaus (Steig
  2\, 8222 Beringen) treffen.\n\n18:00 Uhr Eintrudeln🍹\n18:15 Uhr
  Abendessen🍔\n19:30 Uhr Beginn Gottesdienst🔥\n\nMitbringen:
 \n👉Geschirr🍴\n👉Und für die Mutigen: Ersatzkleider\,\nvielleicht
  gibt es ja noch eine kleine Wasserschlacht……🤷‍♂️😇\n
 \nKontakt: Sebastian Ebi\, sebastian.ebi@ref-sh.ch\, 079 576 99 94\n
 \nWeitere Infos: https://www.ref-sh.ch/veranstaltung/162809
SUMMARY:Boxenstopp
PRIORITY:5
X-MICROSOFT-CDO-IMPORTANCE:1
CLASS:PUBLIC
END:VEVENT
END:VCALENDAR
