BEGIN:VCALENDAR
PRODID:-//kirchenweb.ch gmbh//veranstaltungsausgabe v2.0//DE
VERSION:2.0
METHOD:PUBLISH
BEGIN:VEVENT
DTSTART:20240804T160000Z
DTEND:20240804T190000Z
LOCATION:Info folgt\, \,
TRANSP:OPAQUE
SEQUENCE:0
UID:162808-veranstaltung@ref-sh.ch
DTSTAMP:20240328T192810Z
DESCRIPTION:Weitere Infos zum Boxenstopp findest du unter boxenstopp.\n
 \nProgramm\n18:00 – Apéro\n18:15 – Znacht\n19:30 – Gottesdienst
 \n21:00 – Snacks und open end\n\nKontakt: Eva Werner\, Dorfstrasse 9\,
  8214 Gächlingen\, eva.werner@ref-sh.ch\n\nWeitere Infos:
  https://www.ref-sh.ch/veranstaltung/162808
SUMMARY:Boxenstopp
PRIORITY:5
X-MICROSOFT-CDO-IMPORTANCE:1
CLASS:PUBLIC
END:VEVENT
END:VCALENDAR
