BEGIN:VCALENDAR
PRODID:-//kirchenweb.ch gmbh//veranstaltungsausgabe v2.0//DE
VERSION:2.0
METHOD:PUBLISH
BEGIN:VEVENT
DTSTART:20240630T160000Z
DTEND:20240630T190000Z
LOCATION:Wunderklingen Wutach\, Wunderklinen 10\, 8215 Hallau
TRANSP:OPAQUE
SEQUENCE:0
UID:162805-veranstaltung@ref-sh.ch
DTSTAMP:20240630T153002Z
DESCRIPTION:Weitere Infos zum Boxenstopp findest du unter boxenstopp.\n
 \nProgramm\n18:00 – Apéro in der Eventhalle Wunderklingen\n18:15 –
  Znacht - Grillade\n19:30 – Tauf- Gottesdienst\n21:00 – Snacks und
  open end\n\nUm den genauen Standort zu sehen
  https://maps.app.goo.gl/9Y5QaTGRy3YB5Wko6\n\nKontakt: Zoé Werner\, Im
  Chloster 1\, 8214 Gächlingen\, zoe.werner@ref-sh.ch\, 076 801 39 39\n
 \nWeitere Infos: https://www.ref-sh.ch/veranstaltung/162805
SUMMARY:Boxenstopp – Taufe
PRIORITY:5
X-MICROSOFT-CDO-IMPORTANCE:1
CLASS:PUBLIC
END:VEVENT
END:VCALENDAR
