BEGIN:VCALENDAR
PRODID:-//kirchenweb.ch gmbh//veranstaltungsausgabe v2.0//DE
VERSION:2.0
METHOD:PUBLISH
BEGIN:VEVENT
DTSTART:20240526T160000Z
DTEND:20240526T190000Z
LOCATION:Pfarrhaus Gächlingen\, Im Chloster 1\, 8214 Gächlingen
TRANSP:OPAQUE
SEQUENCE:0
UID:162804-veranstaltung@ref-sh.ch
DTSTAMP:20240520T153002Z
DESCRIPTION:Am kommende Sunntig (26.05) isch wider Boxestopp\nMir sind im
  Pfarrhus Gächlinge \nIm Chloster 1\, 8214 Gächlingen\n\nMitbringe:
 \n-Gschirr+ Becher🍽️ 🥛\n\nProgramm\n18:00 Apéro🍹\n18:15 Znacht
  🥪\n19:30 Gottesdienst🕯️\n\nWeitere Infos zum Boxenstopp findest
  du unter boxenstopp.\n\nKontakt: Sebastian Ebi\,
  sebastian.ebi@ref-sh.ch\, 079 576 99 94\n\nWeitere Infos:
  https://www.ref-sh.ch/veranstaltung/162804
SUMMARY:Boxenstopp
PRIORITY:5
X-MICROSOFT-CDO-IMPORTANCE:1
CLASS:PUBLIC
END:VEVENT
END:VCALENDAR
