BEGIN:VCALENDAR
PRODID:-//kirchenweb.ch gmbh//veranstaltungsausgabe v2.0//DE
VERSION:2.0
METHOD:PUBLISH
BEGIN:VEVENT
DTSTART:20241122T180000Z
DTEND:20241122T190000Z
LOCATION:HofAckerZentrum\, Alpenstrasse 176\, 8203 Schaffhausen
TRANSP:OPAQUE
SEQUENCE:0
UID:162795-veranstaltung@ref-sh.ch
DTSTAMP:20240206T063400Z
DESCRIPTION:Wir laden Sie herzlich zu dieser Kirchgemeindeversammlung ein
  und freuen uns auf eine rege Teilnahme. Einladung und Traktandenliste
  werden den stimmberechtigten Mitgliedern der Kirchgemeinde Buchthalen
  rechtzeitig zugestellt.\n\nKontakt: Christine Thommen\,
  Kirchgemeindepräsidentin \n\nWeitere Infos:
  https://www.ref-sh.ch/veranstaltung/162795
SUMMARY:Kirchgemeindeversammlung
PRIORITY:5
X-MICROSOFT-CDO-IMPORTANCE:1
CLASS:PUBLIC
END:VEVENT
END:VCALENDAR
