BEGIN:VCALENDAR
PRODID:-//kirchenweb.ch gmbh//veranstaltungsausgabe v2.0//DE
VERSION:2.0
METHOD:PUBLISH
BEGIN:VEVENT
DTSTART:20240321T183000Z
DTEND:20240321T200000Z
LOCATION:Haberhaus Bühne\, Neustadt 51\, 8200 Schaffhausen
TRANSP:OPAQUE
SEQUENCE:0
UID:162718-veranstaltung@ref-sh.ch
DTSTAMP:20240214T095551Z
DESCRIPTION:«Bonhoeffer – Tragik einer Liebe»\nmusikalisches
  Schauspiel\nErzählt wird die Liebes- und Beziehungsgeschichte zwischen
  Dietrich Bonhoeffer und Maria von Wedemeyer in den Jahren des Zweiten
  Weltkriegs.\n\nDie Schauspielerin und Autorin Deborah Buehlmann und der
  Musiker Samuel Jersak\, der ihr Ehemann ist\, tun etwas\, das es in
  dieser Form noch nicht gegeben hat: sie lassen die Figuren von Dietrich
  Bonhoeffer und Maria von Wedemeyer auf der Bühne lebendig werden. Durch
  das Zusammenwirken von Schauspiel\, Musik\, Sprache und Zitaten entsteht
  ein 90-minütiges Gesamtkunstwerk\, welches ergreifend\, aufwühlend\,
  aber auch wunderschön und romantisch ist – mit einem tragischen Ende.
 \n\nAufführung der Berner Formation «duett zu dritt»: Das sind Deborah
  Bühlmann\, Samuel Jersak und ein Klavier.\n\nwww.duettzudritt.de\n\n\n
 \nKontakt: Pfarrerin Ute Nürnberg\n\nWeitere Infos:
  https://www.ref-sh.ch/veranstaltung/162718
SUMMARY:Musiktheater: Bonhoeffer - Tragik einer Liebe
PRIORITY:5
X-MICROSOFT-CDO-IMPORTANCE:1
CLASS:PUBLIC
END:VEVENT
END:VCALENDAR
