BEGIN:VCALENDAR
PRODID:-//kirchenweb.ch gmbh//veranstaltungsausgabe v2.0//DE
VERSION:2.0
METHOD:PUBLISH
BEGIN:VEVENT
DTSTART:20240309T122000Z
DTEND:20240309T162000Z
LOCATION:Gächlingen\, \,
TRANSP:OPAQUE
SEQUENCE:0
UID:162705-veranstaltung@ref-sh.ch
DTSTAMP:20240306T155201Z
DESCRIPTION:Diese Mal werden wir einen tollen Nachmittag im
  Pfarrhausgarten in Gächlingen verbringen\, wobei wir uns mit dem Helm
  beschäftigen ;-)\n\nKomm an den Treffpunkt und WICHTIG: Nimm die Nummer
  deines Notfallkontaktes (Mami/Papi) mit. Schreib sie doch auf einen
  Zettel oder falls das nicht geht\, kann sie auch an einen der Leiter
  geschickt werden. Wir brauchen sie fürs Programm.\n\nMitnehmen:
 \n-Wetterentsprechende Kleidung\n-gefüllte Trinkflasche\n-Gute Laune\n
 \nStart:\nLöhningen: 13.30 Brunnen Bushaltestelle Dorf\nGächlingen:
  13.45 Pfarrhaus Gächlingen\nOberhallau/Guntmadingen: Nach Absprache\n
 \nEnde:\nGächlingen: 17.05 Bushaltestelle Dorf\, Richtung Siblingen
 \nLöhningen: 17.20 Brunnen Bushaltestelle Dorf\nOberhallau/Guntmadingen:
  Nach Absprache\n\nKontakt: Anja Ryser\n\nWeitere Infos:
  https://www.ref-sh.ch/veranstaltung/162705
SUMMARY:Ameisli in Gächlingen
PRIORITY:5
X-MICROSOFT-CDO-IMPORTANCE:1
CLASS:PUBLIC
END:VEVENT
END:VCALENDAR
