BEGIN:VCALENDAR
PRODID:-//kirchenweb.ch gmbh//veranstaltungsausgabe v2.0//DE
VERSION:2.0
METHOD:PUBLISH
BEGIN:VEVENT
DTSTART:20240511T110000Z
DTEND:20240511T150000Z
LOCATION:Gächlingen-Löhningen-Oberhallau\, Im Chloster 1\, 8214
  Gächlingen
TRANSP:OPAQUE
SEQUENCE:0
UID:162704-veranstaltung@ref-sh.ch
DTSTAMP:20240508T120219Z
DESCRIPTION:Es ist wieder Ameisli und diesmal treffen wir uns auf dem
  Festplatz ni Neunkirch.\nWir werden ein Feuer machen und einen tollen
  Nachmittag im Wald verbringen. Also komm zum Festplatz und nimm Freude
  mit.\n\nStart:\n13.30 
  https://www.google.com/maps/place/Festplatz+Neunkirch/@47.6792259\,7.4433
 428\,9z/data=!4m7!3m6!1s0x47907b85a4232197:0x17a7b9ea42b13069!8m2!3d47.679
 2259!4d8.4980303!15sCgEqkgEKZmFpcmdyb3VuZOABAA!16s%2Fg%2F11c1ny7cxr?entry=
 tts&g_ep=EgoyMDI0MDUwNS4wKgBIAVAD\n\nEnde:\n17.00 Festplatz Neunkirch\n
 \nFalls Jemand keine Möglichkeit hat\, selber zum Treffpunkt zu kommen\,
  bitte melde dich bei Anja\n\nMitnehmen:\nDem Wetter entsprechende
  Kleidung\nTrinkflasche\ngute Laune\n\nKontakt: \nAnja Ryser\n\nWeitere
  Infos: https://www.ref-sh.ch/veranstaltung/162704
SUMMARY:Ameisli auf dem Festplatz
PRIORITY:5
X-MICROSOFT-CDO-IMPORTANCE:1
CLASS:PUBLIC
END:VEVENT
END:VCALENDAR
