BEGIN:VCALENDAR
PRODID:-//kirchenweb.ch gmbh//veranstaltungsausgabe v2.0//DE
VERSION:2.0
METHOD:PUBLISH
BEGIN:VEVENT
DTSTART:20240406T110500Z
DTEND:20240406T143500Z
LOCATION:Löhningen\, \,
TRANSP:OPAQUE
SEQUENCE:0
UID:162702-veranstaltung@ref-sh.ch
DTSTAMP:20240326T144713Z
DESCRIPTION:Hallo zeme!\n\nEs ist wieder Ameisli und wir verabschieden
  Florian aus dem Leiterteam. Also komm zum Treffpunkt und mach mit bei
  "Florian VS Ameisli". Wie die Aufgaben aussehen und wer am Ende gewinnt\,
  wirst du sehen wenn du kommst.\nWir werden den ganzen Nachmittag draussen
  verbringen\, also denk an die richtigen Kleider und die Trinkflasche.\n
 \nMitnehmen:\n-Wetterentsprechende Kleidung\n-gefüllte Trinkflasche
 \n-Gute Laune\n\nStart:\nGächlingen: 13.00 Buhaltestelle Dorf\, Richtung
  Siblingen\nLöhningen: 13.20 Brunnen Bushaltestelle Dorf
 \nOberhallau/Guntmadingen: Nach Absprache\n\nEnde:\nGächlingen: 16.48
  Bushaltestelle Dorf\, Richtung Neunkirch\nLöhningen: 16.35 Brunnen
  Bushaltestelle Dorf\nOberhallau/Guntmadingen: Nach Absprache\n\nKontakt:
  Hanna Gfeller-Niklaus\n\n\nWeitere Infos:
  https://www.ref-sh.ch/veranstaltung/162702
SUMMARY:Ameisli in Löhningen
PRIORITY:5
X-MICROSOFT-CDO-IMPORTANCE:1
CLASS:PUBLIC
END:VEVENT
END:VCALENDAR
