BEGIN:VCALENDAR
PRODID:-//kirchenweb.ch gmbh//veranstaltungsausgabe v2.0//DE
VERSION:2.0
METHOD:PUBLISH
BEGIN:VEVENT
DTSTART:20240323T120500Z
DTEND:20240323T153500Z
LOCATION:Löhningen\, \,
TRANSP:OPAQUE
SEQUENCE:0
UID:162701-veranstaltung@ref-sh.ch
DTSTAMP:20240320T085333Z
DESCRIPTION:Am Samstag ist wieder Ameisli! Wir verbringen den Nachmittag
  im Mesmerhaus und widmen uns dem Thema Ostern. Also nimm gute Laune mit
  und komm zum Treffpunkt.\n\nMitnehmen:\n-Wetterentsprechende Kleidung
 \n-gefüllte Trinkflasche\n-Gute Laune\n\nStart:\nGächlingen: 13.00
  Buhaltestelle Dorf\, Richtung Siblingen\nLöhningen: 13.20 Brunnen
  Bushaltestelle Dorf\nOberhallau/Guntmadingen: Nach Absprache\n\nEnde:
 \nGächlingen: 16.48 Bushaltestelle Dorf\, Richtung Neunkirch\nLöhningen:
  16.35 Brunnen Bushaltestelle Dorf\nOberhallau/Guntmadingen: Nach
  Absprache\n\nKontakt: Hanna Gfeller-Niklaus\n\n\nWeitere Infos:
  https://www.ref-sh.ch/veranstaltung/162701
SUMMARY:Ameisli in Löhningen
PRIORITY:5
X-MICROSOFT-CDO-IMPORTANCE:1
CLASS:PUBLIC
END:VEVENT
END:VCALENDAR
