BEGIN:VCALENDAR
PRODID:-//kirchenweb.ch gmbh//veranstaltungsausgabe v2.0//DE
VERSION:2.0
METHOD:PUBLISH
BEGIN:VEVENT
DTSTART:20240418T114500Z
DTEND:20240418T150000Z
LOCATION:Kirche\, Kirchstrasse 8\, 8214 Gächlingen
TRANSP:OPAQUE
SEQUENCE:0
UID:162579-veranstaltung@ref-sh.ch
DTSTAMP:20240118T163011Z
DESCRIPTION:Josef lernte das Leben mit allen Höhen- und Tiefpunkten
  kennen. Aber in allem hat er erfahren: Gott lässt mich nicht allein\n
 \nKontakt: Susanne Ryser\n\nWeitere Infos:
  https://www.ref-sh.ch/veranstaltung/162579
SUMMARY:Kinderwoche: Josef der Träumer
PRIORITY:5
X-MICROSOFT-CDO-IMPORTANCE:1
CLASS:PUBLIC
END:VEVENT
END:VCALENDAR
