BEGIN:VCALENDAR
PRODID:-//kirchenweb.ch gmbh//veranstaltungsausgabe v2.0//DE
VERSION:2.0
METHOD:PUBLISH
BEGIN:VEVENT
DTSTART:20240127T090000Z
DTEND:20240127T110000Z
LOCATION:Ochseschüür\, \,
TRANSP:OPAQUE
SEQUENCE:0
UID:162457-veranstaltung@ref-sh.ch
DTSTAMP:20240116T134337Z
DESCRIPTION:Kontakt: Edith Vondach (Eglise)\n\nWeitere Infos:
  https://www.ref-sh.ch/veranstaltung/162457
SUMMARY:Cercle de lecture
PRIORITY:5
X-MICROSOFT-CDO-IMPORTANCE:1
CLASS:PUBLIC
END:VEVENT
END:VCALENDAR
