BEGIN:VCALENDAR
PRODID:-//kirchenweb.ch gmbh//veranstaltungsausgabe v2.0//DE
VERSION:2.0
METHOD:PUBLISH
BEGIN:VEVENT
DTSTART:20240509T073000Z
DTEND:20240509T083000Z
LOCATION:St.Johann\, Kirchhofplatz\, 8200 Schaffhausen
TRANSP:OPAQUE
SEQUENCE:0
UID:162295-veranstaltung@ref-sh.ch
DTSTAMP:20240430T130942Z
DESCRIPTION:Gesamtstädtischer Gottesdienst\nJohann Sebastian Bach
  (1685–1750)\nKantate:\n«Wir danken dir\, Gott\, wir danken dir» BWV
  29\n\nAusführende:\nKonzertchor Schaffhausen\nSchaffhauser
  Barockensemble\n\nGuido Helbling Leitung\nSarah Maeder Hangartner Sopran
 \nIsabel Pfefferkorn Alt\nMichael Mogl Tenor\nSerafin Heusser Bass
 \nAndreas Jud Orgel\nUte Nürnberg Liturgie und Predigt\nMarlise Muralt
  Lektorin\n\nKontakt: Pfarrerin Ute Nürnberg\n\nWeitere Infos:
  https://www.ref-sh.ch/veranstaltung/162295
SUMMARY:Gottesdienst an Auffahrt. Kantaten-Gottesdienst (Bachfest)
PRIORITY:5
X-MICROSOFT-CDO-IMPORTANCE:1
CLASS:PUBLIC
END:VEVENT
END:VCALENDAR
