BEGIN:VCALENDAR
PRODID:-//kirchenweb.ch gmbh//veranstaltungsausgabe v2.0//DE
VERSION:2.0
METHOD:PUBLISH
BEGIN:VEVENT
DTSTART:20240713T080000Z
DTEND:20240713T090000Z
LOCATION:St.Johann\, Kirchhofplatz\, 8200 Schaffhausen
TRANSP:OPAQUE
SEQUENCE:0
UID:162270-veranstaltung@ref-sh.ch
DTSTAMP:20240604T142151Z
DESCRIPTION:Kontakt: Ute Nürnberg\nPfarrerin Ute Nürnberg\n\nWeitere
  Infos: https://www.ref-sh.ch/veranstaltung/162270
SUMMARY:Marktrast
PRIORITY:5
X-MICROSOFT-CDO-IMPORTANCE:1
CLASS:PUBLIC
END:VEVENT
END:VCALENDAR
