BEGIN:VCALENDAR
PRODID:-//kirchenweb.ch gmbh//veranstaltungsausgabe v2.0//DE
VERSION:2.0
METHOD:PUBLISH
BEGIN:VEVENT
DTSTART:20240525T080000Z
DTEND:20240525T090000Z
LOCATION:St.Johann\, Kirchhofplatz\, 8200 Schaffhausen
TRANSP:OPAQUE
SEQUENCE:0
UID:162269-veranstaltung@ref-sh.ch
DTSTAMP:20240429T114936Z
DESCRIPTION:Eine Viertelstunde Orgelmusik mit Texten\n\nKontakt: Pfarrer
  Roland Diethelm\n\nWeitere Infos:
  https://www.ref-sh.ch/veranstaltung/162269
SUMMARY:Marktrast
PRIORITY:5
X-MICROSOFT-CDO-IMPORTANCE:1
CLASS:PUBLIC
END:VEVENT
END:VCALENDAR
