BEGIN:VCALENDAR
PRODID:-//kirchenweb.ch gmbh//veranstaltungsausgabe v2.0//DE
VERSION:2.0
METHOD:PUBLISH
BEGIN:VEVENT
DTSTART:20240329T160000Z
DTEND:20240329T170000Z
LOCATION:Kirche\, Dorfstrasse\, 8454 Buchberg-Rüdlingen
TRANSP:OPAQUE
SEQUENCE:0
UID:162238-veranstaltung@ref-sh.ch
DTSTAMP:20240311T154318Z
DESCRIPTION:Abschiedskonzert von Marie Minářová\n\nJ. S. Bach -
  Fantasia and Fugue in C moll\, BWV 537 \nA. Dvořák - Biblische Lieder
  4\, 6\, 8\nW. Walond - Voluntary No. 6 in d moll\nH. Leenders -
  Intermezzi uit De Veertien Stonden voor orgel\, 2017\nH. Leenders -
  Requiem\, 2018\n\nMit Hana Krejčová (Sopran) und Marie Minářová
  (Orgel)\n\nKontakt: beat.frefel@ref-sh.ch\n\nWeitere Infos:
  https://www.ref-sh.ch/veranstaltung/162238
SUMMARY:Karfreitagskonzert
PRIORITY:5
X-MICROSOFT-CDO-IMPORTANCE:1
CLASS:PUBLIC
END:VEVENT
END:VCALENDAR
