BEGIN:VCALENDAR
PRODID:-//kirchenweb.ch gmbh//veranstaltungsausgabe v2.0//DE
VERSION:2.0
METHOD:PUBLISH
BEGIN:VEVENT
DTSTART:20240128T160000Z
DTEND:20240128T170000Z
LOCATION:Kirche Buchthalen\, \,
TRANSP:OPAQUE
SEQUENCE:0
UID:162216-veranstaltung@ref-sh.ch
DTSTAMP:20240122T084429Z
DESCRIPTION:Lea Schlegel\, Queflöte und Peter Geugis\, Orgel und Klavier
 \n\nmit Werken von:\nGabriel Fauré\nErnesto Köhler\nKees Schoonenbeek
 \nJosé Ramón Córdoba\nJohann Sebastian Bach\nWilliam Babell\nJacques
  Ibert\nW.A. Mozart\nChristopher Norton\nCamille Saint-Saëns\n\nEintritt
  frei - Kollekte\n\nDie gesamte Kollekte kommt der Wunschambulanz zugute.
  Die Vereinigung Wunschambulanz setzt sich für die Erfüllung von
  Wünschen unheilbar kranker Menschen ein.\n\n\n\nKontakt: Peter Geugis\n
 \nWeitere Infos: https://www.ref-sh.ch/veranstaltung/162216
SUMMARY:Konzert für sehnlichste Wünsche
PRIORITY:5
X-MICROSOFT-CDO-IMPORTANCE:1
CLASS:PUBLIC
END:VEVENT
END:VCALENDAR
