BEGIN:VCALENDAR
PRODID:-//kirchenweb.ch gmbh//veranstaltungsausgabe v2.0//DE
VERSION:2.0
METHOD:PUBLISH
BEGIN:VEVENT
DTSTART:20240512T150000Z
DTEND:20240512T160000Z
LOCATION:Kirche Buchthalen\, Windeggstrasse 1\, 8203 Schaffhausen
TRANSP:OPAQUE
SEQUENCE:0
UID:162214-veranstaltung@ref-sh.ch
DTSTAMP:20240502T092050Z
DESCRIPTION:Muttertagskonzert mit Peter Geugis an der Orgel \n\nGönnen
  Sie sich eine kurzweilige Stunde bei heiterer Orgelmusik und lassen Sie
  sich verwöhnen von einem musikalischen Blumenstrauss.\n\nDer Buchthaler
  Organist Peter Geugis verwöhnt Sie auch dieses Jahr wieder mit einer
  "Serenade zum Muttertag"\, einem kurzweiligen Abendständchen auf der
  De-Gier-Orgel der Kirche Buchthalen. Heitere Melodien aus
  unterschiedlichen Stilrichtungen strahlen Schwung und Lebensfreude aus:
  Die "Appenzeller Polka" tänzelt mit einem uruguayischen "Tango"\,
  Wesley's "Hornpipe" wetteifert mit "Tanner's Hannes Wälserli"\, während
  auch jazzige Rhytmen mitschwingen\, bis schliesslich die "Obedröti am
  Alpstee" im "Sunnehöckli" versinkt.\n\nEintritt frei\, Kollekte\n\n
 \nKontakt: Peter Geugis\n\nWeitere Infos:
  https://www.ref-sh.ch/veranstaltung/162214
SUMMARY:Serenade zum Muttertag
PRIORITY:5
X-MICROSOFT-CDO-IMPORTANCE:1
CLASS:PUBLIC
END:VEVENT
END:VCALENDAR
