BEGIN:VCALENDAR
PRODID:-//kirchenweb.ch gmbh//veranstaltungsausgabe v2.0//DE
VERSION:2.0
METHOD:PUBLISH
BEGIN:VEVENT
DTSTART:20240112T100000Z
DTEND:20240112T110000Z
LOCATION:Kirche Löhningen\, Kloster 3\, 8224 Löhningen
TRANSP:OPAQUE
SEQUENCE:0
UID:162082-veranstaltung@ref-sh.ch
DTSTAMP:20240112T163001Z
DESCRIPTION:Beisetzung um 11 Uhr\, direkt anschliessend Abdankung in der
  Kirche.\n\nKontakt: Pfarrer Lukas Huber\n\nWeitere Infos:
  https://www.ref-sh.ch/veranstaltung/162082
SUMMARY:Abdankung Eduard Walter-Walter
PRIORITY:5
X-MICROSOFT-CDO-IMPORTANCE:1
CLASS:PUBLIC
END:VEVENT
END:VCALENDAR
