BEGIN:VCALENDAR
PRODID:-//kirchenweb.ch gmbh//veranstaltungsausgabe v2.0//DE
VERSION:2.0
METHOD:PUBLISH
BEGIN:VEVENT
DTSTART:20241108T174500Z
DTEND:20241108T210000Z
LOCATION:HofAckerZentrum\, Alpenstrasse 176\, 8203 Schaffhausen
TRANSP:OPAQUE
SEQUENCE:0
UID:162067-veranstaltung@ref-sh.ch
DTSTAMP:20240206T064027Z
DESCRIPTION:Kontakt: Alfred H. Bachmann\nEinfangstrasse 18\n8203
  Schaffhausen\n\nWeitere Infos: https://www.ref-sh.ch/veranstaltung/162067
SUMMARY:GV  Rebverein
PRIORITY:5
X-MICROSOFT-CDO-IMPORTANCE:1
CLASS:PUBLIC
END:VEVENT
END:VCALENDAR
