BEGIN:VCALENDAR
PRODID:-//kirchenweb.ch gmbh//veranstaltungsausgabe v2.0//DE
VERSION:2.0
METHOD:PUBLISH
BEGIN:VEVENT
DTSTART:20240402T173000Z
DTEND:20240402T190000Z
LOCATION:Pfarrhaussaal\, Im Chloster 1\, 8214 Gächlingen
TRANSP:OPAQUE
SEQUENCE:0
UID:162061-veranstaltung@ref-sh.ch
DTSTAMP:20240110T163010Z
DESCRIPTION:Wir lesen das Unser-Vater-Gebet und machen uns Gedanken über
  dessen Hintergrund und die Übertragung ins Leben.\n\nKontakt: Marianne
  Näf-Bräker\n\nWeitere Infos: https://www.ref-sh.ch/veranstaltung/162061
SUMMARY:Bibelgesprächskreis
PRIORITY:5
X-MICROSOFT-CDO-IMPORTANCE:1
CLASS:PUBLIC
END:VEVENT
END:VCALENDAR
