BEGIN:VCALENDAR
PRODID:-//kirchenweb.ch gmbh//veranstaltungsausgabe v2.0//DE
VERSION:2.0
METHOD:PUBLISH
BEGIN:VEVENT
DTSTART:20240114T100000Z
DTEND:20240114T110000Z
LOCATION:Pfarrhaussäli\, Herrengasse 28\, 8213 Neunkirch
TRANSP:OPAQUE
SEQUENCE:0
UID:161990-veranstaltung@ref-sh.ch
DTSTAMP:20240112T175241Z
DESCRIPTION:Kontakt: sandra.voegeli@ref-sh.ch\n\nWeitere Infos:
  https://www.ref-sh.ch/veranstaltung/161990
SUMMARY:Kirchencafé
PRIORITY:5
X-MICROSOFT-CDO-IMPORTANCE:1
CLASS:PUBLIC
END:VEVENT
END:VCALENDAR
