BEGIN:VCALENDAR
PRODID:-//kirchenweb.ch gmbh//veranstaltungsausgabe v2.0//DE
VERSION:2.0
METHOD:PUBLISH
BEGIN:VEVENT
DTSTART:20240616T074500Z
DTEND:20240616T084500Z
LOCATION:Mesmerhuus\, Kloster 14\, 8224 Löhningen
TRANSP:OPAQUE
SEQUENCE:0
UID:161819-veranstaltung@ref-sh.ch
DTSTAMP:20240519T041404Z
DESCRIPTION:Kontakt: Beatrice Roost\n\nWeitere Infos:
  https://www.ref-sh.ch/veranstaltung/161819
SUMMARY:Sonntagschule
PRIORITY:5
X-MICROSOFT-CDO-IMPORTANCE:1
CLASS:PUBLIC
END:VEVENT
END:VCALENDAR
