BEGIN:VCALENDAR
PRODID:-//kirchenweb.ch gmbh//veranstaltungsausgabe v2.0//DE
VERSION:2.0
METHOD:PUBLISH
BEGIN:VEVENT
DTSTART:20240303T084500Z
DTEND:20240303T094500Z
LOCATION:Mesmerhuus\, Kloster 14\, 8224 Löhningen
TRANSP:OPAQUE
SEQUENCE:0
UID:161816-veranstaltung@ref-sh.ch
DTSTAMP:20240119T163005Z
DESCRIPTION:Die Sonntagsschule dauert von Anfang Kurzgottesdienst bis Ende
  der Gottesdienst-Diskussion.\n\nKontakt: Beatrice Roost\n\nWeitere Infos:
  https://www.ref-sh.ch/veranstaltung/161816
SUMMARY:Sonntagschule
PRIORITY:5
X-MICROSOFT-CDO-IMPORTANCE:1
CLASS:PUBLIC
END:VEVENT
END:VCALENDAR
