BEGIN:VCALENDAR
PRODID:-//kirchenweb.ch gmbh//veranstaltungsausgabe v2.0//DE
VERSION:2.0
METHOD:PUBLISH
BEGIN:VEVENT
DTSTART:20250112T103000Z
DTEND:20250112T123000Z
LOCATION:Pfarrhaus Münsterplatz \, Münsterplatz 32\, 8200 Schaffhausen
TRANSP:OPAQUE
SEQUENCE:0
UID:161762-veranstaltung@ref-sh.ch
DTSTAMP:20251110T195155Z
DESCRIPTION:Im Anschluss an den Familiengottesdienst mit Tauferinnerung
  sind die Familien der Drittklässler und Viertklässler ins
  Münsterpfarrhaus zum Brunch eingeladen. Spielsachen wie Kappla und der
  Jugendkeller stehen für die Kinder zur Verfügung. Wir freuen uns aufs
  Kennenlernen und den Gedankenaustausch zwischen den Eltern und mit
  Pfarrer und Katechetin. \n\nKontakt: Pfarrer Roland Diethelm\nKatechetin
  Gabriela Fahrni\n\nWeitere Infos:
  https://www.ref-sh.ch/veranstaltung/161762
SUMMARY:Familienbrunch und Elterninfo mit Drittklässlern und
  Viertklässlern
PRIORITY:5
X-MICROSOFT-CDO-IMPORTANCE:1
CLASS:PUBLIC
END:VEVENT
END:VCALENDAR
