BEGIN:VCALENDAR
PRODID:-//kirchenweb.ch gmbh//veranstaltungsausgabe v2.0//DE
VERSION:2.0
METHOD:PUBLISH
BEGIN:VEVENT
DTSTART:20240124T130000Z
DTEND:20240124T153000Z
LOCATION:Pfarrhaus Münsterplatz \, Münsterplatz 32\, 8200 Schaffhausen
TRANSP:OPAQUE
SEQUENCE:0
UID:161755-veranstaltung@ref-sh.ch
DTSTAMP:20240104T163006Z
DESCRIPTION:Die «Kirchliche Unterweisung» ("Religionsunterricht") führt
  junge Menschen in den evangelischen Glauben ein\, macht sie vertraut mit
  unseren Ritualen und lässt sie unsere reformierte Kirche und
  Kirchgemeinde kennen lernen. Wir unterstützen die Familien in der Feier
  des Kirchenjahres und lösen das Taufversprechen ein\, den Kindern von
  Gottes Zuwendung und Liebe in Jesus Christus und der Geschichte Israels
  und der Kirche zu erzählen.\nDer 5.-Klass-Unterricht ermöglicht die
  altersgemässe Begegnung und Auseinandersetzung mit der Bibel als
  Grundlage unseres Glaubens\, Feierns und Handelns. Er beinhaltet die
  Einführung in die Schriften der Bibel sowie das Kennenlernen von
  Persönlichkeiten des Glaubens aus der Bibel\, der Kirchengeschichte und
  der Moderne. \n\n\nKontakt: Pfarrer Roland Diethelm\n\nWeitere Infos:
  https://www.ref-sh.ch/veranstaltung/161755
SUMMARY:ReliUnterricht Fünftklässler
PRIORITY:5
X-MICROSOFT-CDO-IMPORTANCE:1
CLASS:PUBLIC
END:VEVENT
END:VCALENDAR
