BEGIN:VCALENDAR
PRODID:-//kirchenweb.ch gmbh//veranstaltungsausgabe v2.0//DE
VERSION:2.0
METHOD:PUBLISH
BEGIN:VEVENT
DTSTART:20240117T111500Z
DTEND:20240117T114500Z
LOCATION:Münster\, Münsterplatz\, 8200 Schaffhausen
TRANSP:OPAQUE
SEQUENCE:0
UID:161735-veranstaltung@ref-sh.ch
DTSTAMP:20240104T163004Z
DESCRIPTION:Wir treffen uns zum Mittaggeläute und einer kurzen Besinnung
  im Chor der Münsterkirche\n\nKontakt: Pfarrer Roland Diethelm\n\nWeitere
  Infos: https://www.ref-sh.ch/veranstaltung/161735
SUMMARY:KonfStart im Münster
PRIORITY:5
X-MICROSOFT-CDO-IMPORTANCE:1
CLASS:PUBLIC
END:VEVENT
END:VCALENDAR
