BEGIN:VCALENDAR
PRODID:-//kirchenweb.ch gmbh//veranstaltungsausgabe v2.0//DE
VERSION:2.0
METHOD:PUBLISH
BEGIN:VEVENT
DTSTART:20240110T111500Z
DTEND:20240110T123000Z
LOCATION:Pfarrhaus Münsterplatz \, Münsterplatz 32\, 8200 Schaffhausen
TRANSP:OPAQUE
SEQUENCE:0
UID:161716-veranstaltung@ref-sh.ch
DTSTAMP:20240104T163002Z
DESCRIPTION:Das neunte und damit letzte obligatorische Schuljahr steht bei
  uns im Zeichen der Themen „Taufe\, Glaube und Kirche“. Die
  Konfirmandenzeit bietet gute Gelegenheit zum gemeinsamen Diskutieren und
  für tiefe Erlebnisse: Ihr seid nochmals in einer Gruppe aus eurem
  Jahrgang zusammen und lernt neue Orte und Menschen kennen.\n
 \nregelmässig jede Woche Konfunterricht (ausser in den Schulferien) mit
  beginn im Chor der Münsterkirche\n\nKontakt: Pfarrer Roland Diethelm\n
 \nWeitere Infos: https://www.ref-sh.ch/veranstaltung/161716
SUMMARY:Konf Unterricht
PRIORITY:5
X-MICROSOFT-CDO-IMPORTANCE:1
CLASS:PUBLIC
END:VEVENT
END:VCALENDAR
