BEGIN:VCALENDAR
PRODID:-//kirchenweb.ch gmbh//veranstaltungsausgabe v2.0//DE
VERSION:2.0
METHOD:PUBLISH
BEGIN:VEVENT
DTSTART:20240526T074500Z
DTEND:20240526T090000Z
LOCATION:Mesmerhuus\, Kloster 14\, 8224 Löhningen
TRANSP:OPAQUE
SEQUENCE:0
UID:161697-veranstaltung@ref-sh.ch
DTSTAMP:20240104T095611Z
DESCRIPTION:Kontakt: Sven Weber\n\nWeitere Infos:
  https://www.ref-sh.ch/veranstaltung/161697
SUMMARY:Fiire mit de Grosse
PRIORITY:5
X-MICROSOFT-CDO-IMPORTANCE:1
CLASS:PUBLIC
END:VEVENT
END:VCALENDAR
