BEGIN:VCALENDAR
PRODID:-//kirchenweb.ch gmbh//veranstaltungsausgabe v2.0//DE
VERSION:2.0
METHOD:PUBLISH
BEGIN:VEVENT
DTSTART:20240214T160000Z
DTEND:20240214T170000Z
LOCATION:Münster\, Münsterplatz\, 8200 Schaffhausen
TRANSP:OPAQUE
SEQUENCE:0
UID:161687-veranstaltung@ref-sh.ch
DTSTAMP:20240126T150132Z
DESCRIPTION:Morgenlob und Abendlob \nWährend der Passionszeit können Sie
  morgens um 7 Uhr und abends um 18 Uhr je eine halbe Stunde bei
  Kerzenlicht mit mir die Laudes\, das Morgenlob\, und die Versper\, das
  Abendlob\, feiern. Es umfasst vier Psalmen und ein Lied aus dem Neuen
  Testament\, einen Hymnus und eine Lesung sowie Stille und Gebet\, alles
  in deutschem Sprechgesang. Sie sind herzlich willkommen\, mitzusingen
  oder auch einfach nur die Stimmung zu geniessen! \nJeden Mittwoch um
  07.00 Uhr und um 18.00 Uhr im Chor des Münsters. \nBeginn am
  Aschermittwoch 14. Februar um 17 Uhr mit einer Einführung in das
  Tagzeitengebet der benediktinischen Tradition.\n\n\nKontakt: Pfarrer
  Roland Diethelm\n\nWeitere Infos:
  https://www.ref-sh.ch/veranstaltung/161687
SUMMARY:Einführung in die benediktinischen Tagzeitengebete
PRIORITY:5
X-MICROSOFT-CDO-IMPORTANCE:1
CLASS:PUBLIC
END:VEVENT
END:VCALENDAR
