BEGIN:VCALENDAR
PRODID:-//kirchenweb.ch gmbh//veranstaltungsausgabe v2.0//DE
VERSION:2.0
METHOD:PUBLISH
BEGIN:VEVENT
DTSTART:20240605T120000Z
DTEND:20240605T130000Z
LOCATION:Kafi Sunnegg\, Guntmadingen\, Dorfstrasse 29\, 8224 Löhningen
TRANSP:OPAQUE
SEQUENCE:0
UID:161291-veranstaltung@ref-sh.ch
DTSTAMP:20240401T073531Z
DESCRIPTION:Kontakt: ruedi.spoerndli@ref-sh.ch\n\nWeitere Infos:
  https://www.ref-sh.ch/veranstaltung/161291
SUMMARY:Senioren-Nachmittagstreff im Kafi Sunnegg Guntmadingen
PRIORITY:5
X-MICROSOFT-CDO-IMPORTANCE:1
CLASS:PUBLIC
END:VEVENT
END:VCALENDAR
