BEGIN:VCALENDAR
PRODID:-//kirchenweb.ch gmbh//veranstaltungsausgabe v2.0//DE
VERSION:2.0
METHOD:PUBLISH
BEGIN:VEVENT
DTSTART:20241023T120000Z
DTEND:20241023T130000Z
LOCATION:Bistro Storchen\, Herrengasse 26\, 8224 Löhningen
TRANSP:OPAQUE
SEQUENCE:0
UID:161290-veranstaltung@ref-sh.ch
DTSTAMP:20240922T153005Z
DESCRIPTION:Marianne Leu-Uehlinger liest Geschichten ihres Vaters Otto
  Uehlinger.\n\nKontakt: Ruedi Spörndli Tel 052 685 19 69\n\nWeitere
  Infos: https://www.ref-sh.ch/veranstaltung/161290
SUMMARY:Senioren-Nachmittagstreff im Bistro Storchen
PRIORITY:5
X-MICROSOFT-CDO-IMPORTANCE:1
CLASS:PUBLIC
END:VEVENT
END:VCALENDAR
