BEGIN:VCALENDAR
PRODID:-//kirchenweb.ch gmbh//veranstaltungsausgabe v2.0//DE
VERSION:2.0
METHOD:PUBLISH
BEGIN:VEVENT
DTSTART:20240828T120000Z
DTEND:20240828T130000Z
LOCATION:Bistro Storchen\, Herrengasse 26\, 8224 Löhningen
TRANSP:OPAQUE
SEQUENCE:0
UID:161289-veranstaltung@ref-sh.ch
DTSTAMP:20240401T073559Z
DESCRIPTION:Kontakt: Ruedi Spörndli Tel 052 685 19 69\n\nWeitere Infos:
  https://www.ref-sh.ch/veranstaltung/161289
SUMMARY:Senioren-Nachmittagstreff im Bistro Storchen
PRIORITY:5
X-MICROSOFT-CDO-IMPORTANCE:1
CLASS:PUBLIC
END:VEVENT
END:VCALENDAR
