BEGIN:VCALENDAR
PRODID:-//kirchenweb.ch gmbh//veranstaltungsausgabe v2.0//DE
VERSION:2.0
METHOD:PUBLISH
BEGIN:VEVENT
DTSTART:20240117T130000Z
DTEND:20240117T160000Z
LOCATION:Mesmerhuus\, Kloster 14\, 8224 Löhningen
TRANSP:OPAQUE
SEQUENCE:0
UID:161285-veranstaltung@ref-sh.ch
DTSTAMP:20240111T182039Z
DESCRIPTION:Wie Betrügerinnen und Betrüger an ihr Geld kommen. Das ist
  der Titel des Referates am kommenden Senioren-Nachmittag.\nImmer wieder
  ist in der Zeitung zu lesen\, dass vor allem ältere Leute einem
  Betrüger oder einer Betrügerin gutgläubig tausende oder sogar
  zehntausende von Franken überweisen oder übergeben. Kann das auch uns
  passieren?!\nDie Präventionsverantwortliche der Schaffhauser Polizei\,
  Frau Cindy Beer\, wird uns in ihrem Referat erklären\, wie fiese Leute
  vorgehen und versuchen\, uns um unser Geld zu bringen. Worauf wir achten
  sollen\, damit das uns nicht passiert!\n\n\nKontakt:
  ruedi.spoerndli@ref-sh.ch\n\nWeitere Infos:
  https://www.ref-sh.ch/veranstaltung/161285
SUMMARY:Senioren-Nachmittag
PRIORITY:5
X-MICROSOFT-CDO-IMPORTANCE:1
CLASS:PUBLIC
END:VEVENT
END:VCALENDAR
